BEGIN:VCALENDAR
VERSION:2.0
PRODID:-//Tukios.com/
BEGIN:VEVENT
UID:24dfe4a6-8db6-4649-9cb1-ecf3ff9f2e7d@www.heidrickfuneralhome.com
DTSTAMP:20260424T223705Z
DTSTART:20260501T150000Z
DTEND:20260501T160000Z
SUMMARY:Mass of Christian Burial
DESCRIPTION:
URL:https://www.heidrickfuneralhome.com/obituaries/amy-dubrey-wilson
LOCATION:St. Bernard's Catholic Church   Lyon Mountain NY 12952
GEO:44.7132921;-73.920277
END:VEVENT
END:VCALENDAR